BEGIN:VCALENDAR
VERSION:2.0
PRODID:-//Glen Helen Nature Preserve - ECPv6.15.20//NONSGML v1.0//EN
CALSCALE:GREGORIAN
METHOD:PUBLISH
X-WR-CALNAME:Glen Helen Nature Preserve
X-ORIGINAL-URL:https://glenhelen.org
X-WR-CALDESC:Events for Glen Helen Nature Preserve
REFRESH-INTERVAL;VALUE=DURATION:PT1H
X-Robots-Tag:noindex
X-PUBLISHED-TTL:PT1H
BEGIN:VTIMEZONE
TZID:America/New_York
BEGIN:DAYLIGHT
TZOFFSETFROM:-0500
TZOFFSETTO:-0400
TZNAME:EDT
DTSTART:20250309T070000
END:DAYLIGHT
BEGIN:STANDARD
TZOFFSETFROM:-0400
TZOFFSETTO:-0500
TZNAME:EST
DTSTART:20251102T060000
END:STANDARD
BEGIN:DAYLIGHT
TZOFFSETFROM:-0500
TZOFFSETTO:-0400
TZNAME:EDT
DTSTART:20260308T070000
END:DAYLIGHT
BEGIN:STANDARD
TZOFFSETFROM:-0400
TZOFFSETTO:-0500
TZNAME:EST
DTSTART:20261101T060000
END:STANDARD
BEGIN:DAYLIGHT
TZOFFSETFROM:-0500
TZOFFSETTO:-0400
TZNAME:EDT
DTSTART:20270314T070000
END:DAYLIGHT
BEGIN:STANDARD
TZOFFSETFROM:-0400
TZOFFSETTO:-0500
TZNAME:EST
DTSTART:20271107T060000
END:STANDARD
END:VTIMEZONE
BEGIN:VEVENT
DTSTART;TZID=America/New_York:20260509T120000
DTEND;TZID=America/New_York:20260509T123000
DTSTAMP:20260424T110259
CREATED:20260303T175539Z
LAST-MODIFIED:20260407T175328Z
UID:10000466-1778328000-1778329800@glenhelen.org
SUMMARY:Make it Count for the Birds: Tally Rally 12pm
DESCRIPTION:Our annual birdwatching marathon\, with free hikes scheduled throughout the day. Join us as we raise funds in support of Glen Helen land restoration activities\, and discover how many bird species can be found in the Glen in one 24-hour period! You can “Make it Count for the Birds” from the comfort of your home by offering a per-species or lump-sum donation. Visit glenhelen.org for more info. \n12pm: Tally Rally | Birders share what they’ve found (and what they’ve missed). Nosh on complimentary snacks and coffee. LOCATION: Trailside Museum.
URL:https://glenhelen.org/event/make-it-count-for-the-birds-tally-rally-12pm/
LOCATION:Trailside Museum\, 505 Corry Street\, Yellow Springs\, OH\, 45387\, United States
CATEGORIES:Make It Count
ATTACH;FMTTYPE=image/jpeg:https://glenhelen.org/wp-content/uploads/2025/08/original-118-scaled.jpeg
END:VEVENT
BEGIN:VEVENT
DTSTART;TZID=America/New_York:20260517T110000
DTEND;TZID=America/New_York:20260517T114500
DTSTAMP:20260424T110259
CREATED:20260302T161822Z
LAST-MODIFIED:20260407T175410Z
UID:10000366-1779015600-1779018300@glenhelen.org
SUMMARY:Glen Kids
DESCRIPTION:Join stem teacher Amber Good & guest teachers for an exciting and engaging environmental science discovery! Tools and materials provided. Family friendly!  Alternating Sundays 11:00-11:45am. Walk-ins welcome. Program: $5\, members free. Parking: $10\, members free.
URL:https://glenhelen.org/event/glen-kids-6/
LOCATION:Trailside Museum\, 505 Corry Street\, Yellow Springs\, OH\, 45387\, United States
ATTACH;FMTTYPE=image/jpeg:https://glenhelen.org/wp-content/uploads/2025/08/original-67.jpeg
END:VEVENT
BEGIN:VEVENT
DTSTART;TZID=America/New_York:20260517T133000
DTEND;TZID=America/New_York:20260517T153000
DTSTAMP:20260424T110259
CREATED:20260302T164655Z
LAST-MODIFIED:20260407T175450Z
UID:10000449-1779024600-1779031800@glenhelen.org
SUMMARY:May Nature Journaling Club
DESCRIPTION:Join retired teacher and nature journaling enthusiast\, Anne Griffith\, for some guided\, creative time in the Glen. New and veteran journalers are welcome. Bring drawing supplies: pencils\, blank paper or your favorite sketchbook and other painting/drawing materials. (New! Blank Journals available in Nature Shop)Participants will head to a special spot in the Glen\, weather permitting\, to get drawing prompts to guide your creative endeavors. Ages 12 and up are welcome. Attend one or many. Registration required at glenhelen.org\, $5 program + $10 parking\, Members Free. Trailside Museum: 505 Corry St. \nAre you a Glen Helen member? Great! Request your member discount code at programs@glenhelen.org.
URL:https://glenhelen.org/event/may-nature-journaling-club/
LOCATION:Trailside Museum\, 505 Corry Street\, Yellow Springs\, OH\, 45387\, United States
ATTACH;FMTTYPE=image/jpeg:https://glenhelen.org/wp-content/uploads/2025/11/Iris-journal-1-scaled.jpg
END:VEVENT
BEGIN:VEVENT
DTSTART;TZID=America/New_York:20260523T160000
DTEND;TZID=America/New_York:20260523T180000
DTSTAMP:20260424T110259
CREATED:20260302T163827Z
LAST-MODIFIED:20260407T175457Z
UID:10000383-1779552000-1779559200@glenhelen.org
SUMMARY:May Eco-Game Nite
DESCRIPTION:Join Eco-Game Nite Host & Ohio Certified Volunteer Naturalist\, Jake Haney for an evening of board games & fun! Participants can bring a game to share\, learn a new game and/or play an environmentally themed game like Wingspan\, Photosynthesis\, Trails\, and more. All ages & abilities welcome. Registration requested at glenhelen.org\, drop-ins welcome. Program: Free. Parking: Free for participants. Trailside Museum: 505 Corry St.
URL:https://glenhelen.org/event/may-eco-game-nite/
LOCATION:Trailside Museum\, 505 Corry Street\, Yellow Springs\, OH\, 45387\, United States
ATTACH;FMTTYPE=image/jpeg:https://glenhelen.org/wp-content/uploads/2025/08/original-227-scaled.jpeg
END:VEVENT
END:VCALENDAR