BEGIN:VCALENDAR
VERSION:2.0
PRODID:-//Glen Helen Nature Preserve - ECPv6.15.20//NONSGML v1.0//EN
CALSCALE:GREGORIAN
METHOD:PUBLISH
X-ORIGINAL-URL:https://glenhelen.org
X-WR-CALDESC:Events for Glen Helen Nature Preserve
REFRESH-INTERVAL;VALUE=DURATION:PT1H
X-Robots-Tag:noindex
X-PUBLISHED-TTL:PT1H
BEGIN:VTIMEZONE
TZID:America/New_York
BEGIN:DAYLIGHT
TZOFFSETFROM:-0500
TZOFFSETTO:-0400
TZNAME:EDT
DTSTART:20240310T070000
END:DAYLIGHT
BEGIN:STANDARD
TZOFFSETFROM:-0400
TZOFFSETTO:-0500
TZNAME:EST
DTSTART:20241103T060000
END:STANDARD
BEGIN:DAYLIGHT
TZOFFSETFROM:-0500
TZOFFSETTO:-0400
TZNAME:EDT
DTSTART:20250309T070000
END:DAYLIGHT
BEGIN:STANDARD
TZOFFSETFROM:-0400
TZOFFSETTO:-0500
TZNAME:EST
DTSTART:20251102T060000
END:STANDARD
BEGIN:DAYLIGHT
TZOFFSETFROM:-0500
TZOFFSETTO:-0400
TZNAME:EDT
DTSTART:20260308T070000
END:DAYLIGHT
BEGIN:STANDARD
TZOFFSETFROM:-0400
TZOFFSETTO:-0500
TZNAME:EST
DTSTART:20261101T060000
END:STANDARD
BEGIN:DAYLIGHT
TZOFFSETFROM:-0500
TZOFFSETTO:-0400
TZNAME:EDT
DTSTART:20270314T070000
END:DAYLIGHT
BEGIN:STANDARD
TZOFFSETFROM:-0400
TZOFFSETTO:-0500
TZNAME:EST
DTSTART:20271107T060000
END:STANDARD
END:VTIMEZONE
BEGIN:VEVENT
DTSTART;TZID=America/New_York:20260419T133000
DTEND;TZID=America/New_York:20260419T153000
DTSTAMP:20260424T110006
CREATED:20260302T164539Z
LAST-MODIFIED:20260407T174830Z
UID:10000448-1776605400-1776612600@glenhelen.org
SUMMARY:April Nature Journaling Club
DESCRIPTION:Join retired teacher and nature journaling enthusiast\, Anne Griffith\, for some guided\, creative time in the Glen. New and veteran journalers are welcome. Bring drawing supplies: pencils\, blank paper or your favorite sketchbook and other painting/drawing materials. (New! Blank Journals available in Nature Shop)Participants will head to a special spot in the Glen\, weather permitting\, to get drawing prompts to guide your creative endeavors. Ages 12 and up are welcome. Attend one or many. Registration required at glenhelen.org\, $5 program + $10 parking\, Members Free. Trailside Museum: 505 Corry St. \nAre you a Glen Helen member? Great! Request your member discount code at programs@glenhelen.org.
URL:https://glenhelen.org/event/april-nature-journaling-club/
LOCATION:Trailside Museum\, 505 Corry Street\, Yellow Springs\, OH\, 45387\, United States
ATTACH;FMTTYPE=image/jpeg:https://glenhelen.org/wp-content/uploads/2025/11/Iris-journal-1-scaled.jpg
END:VEVENT
BEGIN:VEVENT
DTSTART;TZID=America/New_York:20260418T140000
DTEND;TZID=America/New_York:20260418T160000
DTSTAMP:20260424T110006
CREATED:20260302T171221Z
LAST-MODIFIED:20260407T174840Z
UID:10000458-1776520800-1776528000@glenhelen.org
SUMMARY:Spring Beauty Wildflower Walk
DESCRIPTION:Trillium\, Hepatica and Mayapple\, oh my! Join our volunteer naturalist\, Patrick Dwyer\, as we explore the trails in search of emerging plants and spring flowers. Registration required. $5\, Glen Helen members free. Parking: $10\, members park free. Trailside Museum: 505 Corry St.
URL:https://glenhelen.org/event/spring-beauty-wildflower-walk-3/
LOCATION:Trailside Museum\, 505 Corry Street\, Yellow Springs\, OH\, 45387\, United States
ATTACH;FMTTYPE=image/jpeg:https://glenhelen.org/wp-content/uploads/2024/12/trillium-noat.jpg
END:VEVENT
BEGIN:VEVENT
DTSTART;TZID=America/New_York:20260418T133000
DTEND;TZID=America/New_York:20260418T140000
DTSTAMP:20260424T110006
CREATED:20260302T164033Z
LAST-MODIFIED:20260407T174305Z
UID:10000389-1776519000-1776520800@glenhelen.org
SUMMARY:Trailside Turtle Feeding
DESCRIPTION:What does a box turtle eat? Drop in to find out as we feed our resident turtles and other native ambassador animals. No registration required. All ages welcome. Program: Free. Parking: $10\, members free. Trailside Museum: 505 Corry St.
URL:https://glenhelen.org/event/trailside-turtle-feeding-2/2026-04-18/
LOCATION:Trailside Museum\, 505 Corry Street\, Yellow Springs\, OH\, 45387\, United States
ATTACH;FMTTYPE=image/jpeg:https://glenhelen.org/wp-content/uploads/2025/07/080924_Museum-590x339-1-e1763996733313.jpg
END:VEVENT
BEGIN:VEVENT
DTSTART;TZID=America/New_York:20260412T110000
DTEND;TZID=America/New_York:20260412T114500
DTSTAMP:20260424T110006
CREATED:20260302T161349Z
LAST-MODIFIED:20260412T155139Z
UID:10000363-1775991600-1775994300@glenhelen.org
SUMMARY:Glen Kids
DESCRIPTION:Join guest STEM teachers for an exciting science activity! Tools and materials provided. Family Friendly. Alternating Sundays 11:00-11:45am. Walk-ins welcome. Program: $5\, members free. Parking: $10\, members free.
URL:https://glenhelen.org/event/glen-kids-3/
LOCATION:Trailside Museum\, 505 Corry Street\, Yellow Springs\, OH\, 45387\, United States
ATTACH;FMTTYPE=image/jpeg:https://glenhelen.org/wp-content/uploads/2025/08/original-67.jpeg
END:VEVENT
BEGIN:VEVENT
DTSTART;TZID=America/New_York:20260404T140000
DTEND;TZID=America/New_York:20260404T160000
DTSTAMP:20260424T110006
CREATED:20260302T171051Z
LAST-MODIFIED:20260302T171051Z
UID:10000456-1775311200-1775318400@glenhelen.org
SUMMARY:Spring Beauty Wildflower Walk
DESCRIPTION:Trillium\, Hepatica and Mayapple\, oh my! Join our volunteer naturalist\, Patrick Dwyer\, as we explore the trails in search of emerging plants and spring flowers. Registration required. $5\, Glen Helen members free. Parking: $10\, members park free. Trailside Museum: 505 Corry St.
URL:https://glenhelen.org/event/spring-beauty-wildflower-walk/
LOCATION:Trailside Museum\, 505 Corry Street\, Yellow Springs\, OH\, 45387\, United States
ATTACH;FMTTYPE=image/jpeg:https://glenhelen.org/wp-content/uploads/2024/12/trillium-noat.jpg
END:VEVENT
BEGIN:VEVENT
DTSTART;TZID=America/New_York:20260329T110000
DTEND;TZID=America/New_York:20260329T114500
DTSTAMP:20260424T110006
CREATED:20260302T161247Z
LAST-MODIFIED:20260302T161247Z
UID:10000362-1774782000-1774784700@glenhelen.org
SUMMARY:Glen Kids
DESCRIPTION:Join environmental & stem educator Amber Good & guest teachers for an exciting and engaging environmental science discovery! Tools and materials provided. Family friendly!  Alternating Sundays 11:00-11:45am. Walk-ins welcome. Program: $8\, members free. Parking: $10\, members free.
URL:https://glenhelen.org/event/glen-kids-2/
LOCATION:Trailside Museum\, 505 Corry Street\, Yellow Springs\, OH\, 45387\, United States
ATTACH;FMTTYPE=image/jpeg:https://glenhelen.org/wp-content/uploads/2025/08/original-67.jpeg
END:VEVENT
BEGIN:VEVENT
DTSTART;TZID=America/New_York:20260328T160000
DTEND;TZID=America/New_York:20260328T180000
DTSTAMP:20260424T110006
CREATED:20260302T163625Z
LAST-MODIFIED:20260302T163625Z
UID:10000381-1774713600-1774720800@glenhelen.org
SUMMARY:March Eco-Game Nite
DESCRIPTION:Join Eco-Game Nite Host & Ohio Certified Volunteer Naturalist\, Jake Haney for an evening of board games & fun! Participants can bring a game to share\, learn a new game and/or play an environmentally themed game like Wingspan\, Photosynthesis\, Trails\, and more. All ages & abilities welcome. Registration requested at glenhelen.org\, drop-ins welcome. Program: Free. Parking: Free for participants. Trailside Museum: 505 Corry St.
URL:https://glenhelen.org/event/march-eco-game-nite/
LOCATION:Trailside Museum\, 505 Corry Street\, Yellow Springs\, OH\, 45387\, United States
ATTACH;FMTTYPE=image/jpeg:https://glenhelen.org/wp-content/uploads/2025/08/original-227-scaled.jpeg
END:VEVENT
BEGIN:VEVENT
DTSTART;TZID=America/New_York:20260326T144500
DTEND;TZID=America/New_York:20260326T151500
DTSTAMP:20260424T110006
CREATED:20260216T210401Z
LAST-MODIFIED:20260302T164933Z
UID:10000451-1774536300-1774538100@glenhelen.org
SUMMARY:Thursday Project Feeder Watch
DESCRIPTION:Project Feeder Watch is a community science project done by the Cornell University Laboratory of Ornithology. From Cornell: “Feeder Watch engages people in observing birds and mammals that visit backyards\, nature centers\, community areas\, and other locales anywhere in the U.S. and Canada… your observations provide unique insight into the lives of backyard birds and help us track avian populations over time.” We will gather at the Glen Helen Trailside Museum on Thursday afternoons to log the birds visiting the feeders there. Our data will be sent to Cornell and will contribute to their data on feeder birds. This is a great way to learn to ID birds! Ages 8+. Trailside Museum\, 505 Corry St. Free. Parking $10\, Free for Members.
URL:https://glenhelen.org/event/thursday-project-feeder-watch/2026-03-26/
LOCATION:Trailside Museum\, 505 Corry Street\, Yellow Springs\, OH\, 45387\, United States
ATTACH;FMTTYPE=image/jpeg:https://glenhelen.org/wp-content/uploads/2025/09/2026-Calendar-Photo-Contest19-scaled.jpeg
END:VEVENT
BEGIN:VEVENT
DTSTART;TZID=America/New_York:20260315T133000
DTEND;TZID=America/New_York:20260315T153000
DTSTAMP:20260424T110006
CREATED:20260224T152332Z
LAST-MODIFIED:20260226T181410Z
UID:10000226-1773581400-1773588600@glenhelen.org
SUMMARY:March Nature Journaling Club
DESCRIPTION:Join retired teacher and nature journaling enthusiast\, Anne Griffith\, for some guided\, creative time in the Glen. New and veteran journalers are welcome. Bring drawing supplies: pencils\, blank paper or your favorite sketchbook and other painting/drawing materials. (New! Blank Journals available in Nature Shop)Participants will head to a special spot in the Glen\, weather permitting\, to get drawing prompts to guide your creative endeavors. Ages 12 and up are welcome. Attend one or many. Registration required at glenhelen.org\, $5 program + $10 parking\, Members Free. Trailside Museum: 505 Corry St. \nAre you a Glen Helen member? Great! Request your member discount code at programs@glenhelen.org.
URL:https://glenhelen.org/event/nature-journaling-club/
LOCATION:Trailside Museum\, 505 Corry Street\, Yellow Springs\, OH\, 45387\, United States
ATTACH;FMTTYPE=image/jpeg:https://glenhelen.org/wp-content/uploads/2025/11/Iris-journal-1-scaled.jpg
END:VEVENT
BEGIN:VEVENT
DTSTART;TZID=America/New_York:20260315T110000
DTEND;TZID=America/New_York:20260315T114500
DTSTAMP:20260424T110006
CREATED:20260302T161057Z
LAST-MODIFIED:20260308T211816Z
UID:10000361-1773572400-1773575100@glenhelen.org
SUMMARY:Glen Kids
DESCRIPTION:Alternating Sundays 11:00-11:45am. \nJoin environmental & stem educator Amber Good & guest teachers for an exciting and engaging science discovery! Tools and materials provided as long as supplies last. Family friendly!  Alternating Sundays 11:00-11:45am. All Ages-Walk-ins welcome. Can pay in Nature Shop. Program: $5 per participant.  Adults stay with their child/children.  Members free. Parking: $10\, free for members.
URL:https://glenhelen.org/event/glen-kids/
LOCATION:Trailside Museum\, 505 Corry Street\, Yellow Springs\, OH\, 45387\, United States
ATTACH;FMTTYPE=image/jpeg:https://glenhelen.org/wp-content/uploads/2025/08/original-67.jpeg
END:VEVENT
BEGIN:VEVENT
DTSTART;TZID=America/New_York:20260306T200000
DTEND;TZID=America/New_York:20260306T213000
DTSTAMP:20260424T110006
CREATED:20260302T162155Z
LAST-MODIFIED:20260302T162155Z
UID:10000367-1772827200-1772832600@glenhelen.org
SUMMARY:Full Worm Moon Hike
DESCRIPTION:Join Brendan and Simone Baumann  for a night hike under the full moon. Moderate 1 mile hike. Program: $5\, members free. Parking: Free. Registration required. Trailside Museum\, 505 Corry St.
URL:https://glenhelen.org/event/full-worm-moon-hike/
LOCATION:Trailside Museum\, 505 Corry Street\, Yellow Springs\, OH\, 45387\, United States
ATTACH;FMTTYPE=image/jpeg:https://glenhelen.org/wp-content/uploads/2025/08/original-222-scaled.jpeg
END:VEVENT
BEGIN:VEVENT
DTSTART;TZID=America/New_York:20260305T144500
DTEND;TZID=America/New_York:20260305T151500
DTSTAMP:20260424T110006
CREATED:20260216T210213Z
LAST-MODIFIED:20260216T210213Z
UID:10000301-1772721900-1772723700@glenhelen.org
SUMMARY:Thursday's Project Feeder Watch
DESCRIPTION:Project Feeder Watch is a community science project done by the Cornell University Laboratory of Ornithology. From Cornell: “Feeder Watch engages people in observing birds and mammals that visit backyards\, nature centers\, community areas\, and other locales anywhere in the U.S. and Canada… your observations provide unique insight into the lives of backyard birds and help us track avian populations over time.” We will gather at the Glen Helen Trailside Museum on Thursday afternoons to log the birds visiting the feeders there. Our data will be sent to Cornell and will contribute to their data on feeder birds. This is a great way to learn to ID birds! Ages 8+.   Trailside Museum\, 505 Corry St. Free. Parking $10\, Free for Members.
URL:https://glenhelen.org/event/thursdays-project-feeder-watch/
LOCATION:Trailside Museum\, 505 Corry Street\, Yellow Springs\, OH\, 45387\, United States
ATTACH;FMTTYPE=image/jpeg:https://glenhelen.org/wp-content/uploads/2025/09/2026-Calendar-Photo-Contest19-scaled.jpeg
END:VEVENT
BEGIN:VEVENT
DTSTART;TZID=America/New_York:20260228T160000
DTEND;TZID=America/New_York:20260228T180000
DTSTAMP:20260424T110006
CREATED:20251124T172159Z
LAST-MODIFIED:20251202T191454Z
UID:10000234-1772294400-1772301600@glenhelen.org
SUMMARY:February Eco-Game Nite
DESCRIPTION:Join Eco-Game Nite Host & Ohio Certified Volunteer Naturalist\, Jake Haney for an evening of board games & fun! Participants can bring a game to share\, learn a new game and/or play an environmentally themed game like Wingspan\, Photosynthesis\, Trails\, and more. All ages & abilities welcome. Registration requested at glenhelen.org\, drop-ins welcome. Program: Free. Parking: Free for participants. Trailside Museum: 505 Corry St.
URL:https://glenhelen.org/event/february-eco-game-nite/
LOCATION:Trailside Museum\, 505 Corry Street\, Yellow Springs\, OH\, 45387\, United States
CATEGORIES:Special Events
ATTACH;FMTTYPE=image/jpeg:https://glenhelen.org/wp-content/uploads/2025/08/original-227-scaled.jpeg
END:VEVENT
BEGIN:VEVENT
DTSTART;TZID=America/New_York:20260222T133000
DTEND;TZID=America/New_York:20260222T153000
DTSTAMP:20260424T110006
CREATED:20251124T171914Z
LAST-MODIFIED:20251202T191554Z
UID:10000233-1771767000-1771774200@glenhelen.org
SUMMARY:February Nature Journaling Club
DESCRIPTION:Join retired teacher and nature journaling enthusiast\, Anne Griffith\, for some guided\, creative time in the Glen. New and veteran journalers are welcome. Bring drawing supplies: colored pencils\, and blank paper or your favorite sketchbook and other painting/drawing materials. Participants will head to a special spot in the Glen\, weather permitting\, to get drawing prompts to guide your creative endeavors. Ages 12 and up are welcome. Attend one or many. Registration requested at glenhelen.org\, $5 program + $10 parking\, members Free. Trailside Museum: 505 Corry St. \nAre you a Glen Helen member? Great! Request your member discount code at programs@glenhelen.org. \n 
URL:https://glenhelen.org/event/february-nature-journaling-club/
LOCATION:Trailside Museum\, 505 Corry Street\, Yellow Springs\, OH\, 45387\, United States
ATTACH;FMTTYPE=image/jpeg:https://glenhelen.org/wp-content/uploads/2025/11/20251030_130945-scaled.jpg
END:VEVENT
BEGIN:VEVENT
DTSTART;TZID=America/New_York:20260124T160000
DTEND;TZID=America/New_York:20260124T180000
DTSTAMP:20260424T110006
CREATED:20251124T152944Z
LAST-MODIFIED:20260123T141925Z
UID:10000227-1769270400-1769277600@glenhelen.org
SUMMARY:January Eco-Game Nite- Canceled Due to Weather
DESCRIPTION:Join Eco-Game Nite Host & Ohio Certified Volunteer Naturalist\, Jake Haney for an evening of board games & fun! Participants can bring a game to share\, learn a new game and/or play an environmentally themed game like Wingspan\, Photosynthesis\, Trails\, and more. All ages & abilities welcome. Registration requested at glenhelen.org\, drop-ins welcome. Program: Free. Parking: Free for participants. Trailside Museum: 505 Corry St.
URL:https://glenhelen.org/event/january-eco-game-nite/
LOCATION:Trailside Museum\, 505 Corry Street\, Yellow Springs\, OH\, 45387\, United States
ATTACH;FMTTYPE=image/jpeg:https://glenhelen.org/wp-content/uploads/2025/08/original-223-scaled.jpeg
END:VEVENT
BEGIN:VEVENT
DTSTART;TZID=America/New_York:20251121T180000
DTEND;TZID=America/New_York:20251121T210000
DTSTAMP:20260424T110006
CREATED:20250818T022254Z
LAST-MODIFIED:20250917T183940Z
UID:10000203-1763748000-1763758800@glenhelen.org
SUMMARY:Eco-Game Nite
DESCRIPTION:Eco-Game Nite\nProgram led by Jake Haney\, OCVN \nJoin Ohio Certified Volunteer Naturalist\, Jake Haney\, for an evening of fun\, environmentally- themed board games at the Trailside Museum. We’ll play Wingspan\, Photosynthesis\, Trails and more\, depending on participant interest. Feel free to bring your favorite game to share. No experience necessary\, all ages. \nEvery 3rd Friday: Sept 19\, Oct 17\, Nov 21\n6:00–9:00pm\nTrailside Museum\, 505 Corry St\, Yellow Springs \nRegistration suggested; walk-ins welcome.\nParking and Program is Free for Program Participants and Members.
URL:https://glenhelen.org/event/eco-game-nite/2025-11-21/
LOCATION:Trailside Museum\, 505 Corry Street\, Yellow Springs\, OH\, 45387\, United States
CATEGORIES:Eco-Game Night,Programs,Series
END:VEVENT
BEGIN:VEVENT
DTSTART;TZID=America/New_York:20251116T133000
DTEND;TZID=America/New_York:20251116T153000
DTSTAMP:20260424T110006
CREATED:20251015T205325Z
LAST-MODIFIED:20251016T190723Z
UID:10000210-1763299800-1763307000@glenhelen.org
SUMMARY:November Nature Journaling Club
DESCRIPTION:November Nature Journaling Club \nSunday\, Nov 16\, 1:30-3:30p\nTrailside Museum: 505 Corry St.\, Yellow Springs \nRegistration required\nProgram: $5 + Parking: $10\, Members Free \nJoin retired teacher and nature journaling enthusiast\, Anne Griffith\, for some guided\, creative time in the Glen. New and veteran journalers are welcome. Bring drawing supplies: colored pencils\, and blank paper or your favorite sketchbook and other painting/drawing materials. Participants will head to a special spot in the Glen\, weather permitting\, to get drawing prompts to guide your creative endeavors. Ages 12 and up are welcome. Attend one or many.
URL:https://glenhelen.org/event/november-nature-journaling-club/
LOCATION:Trailside Museum\, 505 Corry Street\, Yellow Springs\, OH\, 45387\, United States
CATEGORIES:Programs,Series
END:VEVENT
BEGIN:VEVENT
DTSTART;TZID=America/New_York:20251101T190000
DTEND;TZID=America/New_York:20251101T203000
DTSTAMP:20260424T110006
CREATED:20250817T211223Z
LAST-MODIFIED:20250901T164040Z
UID:10000178-1762023600-1762029000@glenhelen.org
SUMMARY:Beaver Full Moon Hike\, Beaver Pond
DESCRIPTION:Beaver Full Moon Hike\, Beaver Pond\nProgram led by Brendan Baumann \nJourney into the Glen for a moonlit walk on the Inman Trail. This moderate 1-mile hike honors the spirit of the beaver moon.\nSaturday\, November 1\n7:00–8:30pm\nTrailside Museum\, 505 Corry St\, Yellow Springs \nRegistration required\nProgram: $5 + Parking: $10\, Members Free
URL:https://glenhelen.org/event/beaver-full-moon-beaver-pond/
LOCATION:Trailside Museum\, 505 Corry Street\, Yellow Springs\, OH\, 45387\, United States
CATEGORIES:Full Moon Hike Series,Programs,Series
END:VEVENT
BEGIN:VEVENT
DTSTART;TZID=America/New_York:20250921T133000
DTEND;TZID=America/New_York:20250921T153000
DTSTAMP:20260424T110006
CREATED:20250818T013205Z
LAST-MODIFIED:20250818T013205Z
UID:10000189-1758461400-1758468600@glenhelen.org
SUMMARY:Nature Journaling
DESCRIPTION:Nature Journaling\nProgram led by Anne Griffith \nJoin retired teacher and nature journaling enthusiast\, Anne Griffith\, for some guided\, creative time in the Glen. Bring drawing supplies: colored pencils and blank paper or your favorite sketchbook and drawing materials. Participants will head to a special spot in the Glen to get drawing prompts to guide your creative endeavors. Ages 12 and up are welcome. \nSunday\, September 21\, 2025\n1:30–3:30pm\nTrailside Museum: 505 Corry St.\, Yellow Springs \nRegistration required\nProgram: $5 + Parking: $10\, Members Free
URL:https://glenhelen.org/event/nature-journaling/
LOCATION:Trailside Museum\, 505 Corry Street\, Yellow Springs\, OH\, 45387\, United States
CATEGORIES:Programs
END:VEVENT
END:VCALENDAR