BEGIN:VCALENDAR
VERSION:2.0
PRODID:-//Glen Helen Nature Preserve - ECPv6.15.20//NONSGML v1.0//EN
CALSCALE:GREGORIAN
METHOD:PUBLISH
X-WR-CALNAME:Glen Helen Nature Preserve
X-ORIGINAL-URL:https://glenhelen.org
X-WR-CALDESC:Events for Glen Helen Nature Preserve
REFRESH-INTERVAL;VALUE=DURATION:PT1H
X-Robots-Tag:noindex
X-PUBLISHED-TTL:PT1H
BEGIN:VTIMEZONE
TZID:America/New_York
BEGIN:DAYLIGHT
TZOFFSETFROM:-0500
TZOFFSETTO:-0400
TZNAME:EDT
DTSTART:20240310T070000
END:DAYLIGHT
BEGIN:STANDARD
TZOFFSETFROM:-0400
TZOFFSETTO:-0500
TZNAME:EST
DTSTART:20241103T060000
END:STANDARD
BEGIN:DAYLIGHT
TZOFFSETFROM:-0500
TZOFFSETTO:-0400
TZNAME:EDT
DTSTART:20250309T070000
END:DAYLIGHT
BEGIN:STANDARD
TZOFFSETFROM:-0400
TZOFFSETTO:-0500
TZNAME:EST
DTSTART:20251102T060000
END:STANDARD
BEGIN:DAYLIGHT
TZOFFSETFROM:-0500
TZOFFSETTO:-0400
TZNAME:EDT
DTSTART:20260308T070000
END:DAYLIGHT
BEGIN:STANDARD
TZOFFSETFROM:-0400
TZOFFSETTO:-0500
TZNAME:EST
DTSTART:20261101T060000
END:STANDARD
BEGIN:DAYLIGHT
TZOFFSETFROM:-0500
TZOFFSETTO:-0400
TZNAME:EDT
DTSTART:20270314T070000
END:DAYLIGHT
BEGIN:STANDARD
TZOFFSETFROM:-0400
TZOFFSETTO:-0500
TZNAME:EST
DTSTART:20271107T060000
END:STANDARD
END:VTIMEZONE
BEGIN:VEVENT
DTSTART;TZID=America/New_York:20260403T203000
DTEND;TZID=America/New_York:20260403T223000
DTSTAMP:20260424T073619
CREATED:20260302T165722Z
LAST-MODIFIED:20260302T165722Z
UID:10000453-1775248200-1775255400@glenhelen.org
SUMMARY:Full Pink Moon & Pine Forest Hike
DESCRIPTION:Join volunteer Tom Sabin on this guided hike through the Pine Forest and the nearby School Forest\, covering 3 miles of moderately strenuous terrain. As you hike through the pine-scented air\, discover fascinating facts about the lunar cycle and the natural beauty of the forest. $5\, Glen Helen members free. Registration required. Meet at Cascades Parking Lot: 1075 State Route 343. \n 
URL:https://glenhelen.org/event/full-pink-moon-pine-forest-hike/
LOCATION:Cascades Parking Lot\, 1075 State Route 343\, Yellow Springs\, 45387\, United States
ATTACH;FMTTYPE=image/jpeg:https://glenhelen.org/wp-content/uploads/2025/08/original-154.jpeg
ORGANIZER;CN="Glen Helen Volunteer%3A Tom Sabin":MAILTO:programs@glenhelen.org
END:VEVENT
BEGIN:VEVENT
DTSTART;TZID=America/New_York:20260328T080000
DTEND;TZID=America/New_York:20260328T100000
DTSTAMP:20260424T073619
CREATED:20260302T165256Z
LAST-MODIFIED:20260302T165256Z
UID:10000452-1774684800-1774692000@glenhelen.org
SUMMARY:Late Winter Birding
DESCRIPTION:We’ll search the north Glen for winter residents and early spring migrants on this two-mile walk. Program: $10\, members free. Parking: $10\, members free. Meet at the Cascades Parking Lot: 1075 State Route 343.
URL:https://glenhelen.org/event/late-winter-birding/
LOCATION:Cascades Parking Lot\, 1075 State Route 343\, Yellow Springs\, 45387\, United States
ATTACH;FMTTYPE=image/jpeg:https://glenhelen.org/wp-content/uploads/2025/09/2026-Calendar-Photo-Contest20-scaled.jpeg
END:VEVENT
BEGIN:VEVENT
DTSTART;TZID=America/New_York:20260322T110000
DTEND;TZID=America/New_York:20260322T140000
DTSTAMP:20260424T073619
CREATED:20260210T205543Z
LAST-MODIFIED:20260210T205543Z
UID:10000238-1774177200-1774188000@glenhelen.org
SUMMARY:Baby Bird Journey
DESCRIPTION:The Baby Bird Journey – Sunday\, March 22: 11am-2pm \nCome to the Raptor Center to celebrate the joy of Springtime and learn how nestling birds go from fluffy babies to fledglings ready to fly. Start your nestling journey at the Cascade’s parking lot at 1075 State Route 343 and along a short half-mile walk to the Raptor Center you will meet different birds at interactive stations that will take you from helpless nestling to fearsome fledgling. Don’t delay\, the baby bird journey will be open from 11am to 2pm. Parking $10\, Glen Helen Association members park free.
URL:https://glenhelen.org/event/baby-bird-journey/
LOCATION:Cascades Parking Lot\, 1075 State Route 343\, Yellow Springs\, 45387\, United States
CATEGORIES:Raptor Center
ATTACH;FMTTYPE=image/jpeg:https://glenhelen.org/wp-content/uploads/2026/02/PXL_20250423_174458280-scaled.jpg
ORGANIZER;CN="Raptor Center":MAILTO:raptor.center@glenhelen.org
END:VEVENT
BEGIN:VEVENT
DTSTART;TZID=America/New_York:20260207T080000
DTEND;TZID=America/New_York:20260207T100000
DTSTAMP:20260424T073619
CREATED:20251124T171232Z
LAST-MODIFIED:20260206T162552Z
UID:10000231-1770451200-1770458400@glenhelen.org
SUMMARY:Winter Birds Hike- Canceled Due to Weather
DESCRIPTION:We’ll search the north Glen for elusive winter finches on this one-mile walk. $5 + $10 parking\, members free. Meet at the new Cascades Parking Lot\, just off 1075 State Route 343. \nAre you a Glen Helen member? Great! Request your member discount code at programs@glenhelen.org. \n 
URL:https://glenhelen.org/event/winter-birds-hike/
LOCATION:Cascades Parking Lot\, 1075 State Route 343\, Yellow Springs\, 45387\, United States
ATTACH;FMTTYPE=image/jpeg:https://glenhelen.org/wp-content/uploads/2025/08/original-186-scaled.jpeg
END:VEVENT
BEGIN:VEVENT
DTSTART;TZID=America/New_York:20251206T080000
DTEND;TZID=America/New_York:20251206T100000
DTSTAMP:20260424T073619
CREATED:20250818T012136Z
LAST-MODIFIED:20251204T190008Z
UID:10000185-1765008000-1765015200@glenhelen.org
SUMMARY:Late Fall Birds
DESCRIPTION:Late Fall Migration Birding Hike\nProgram led by Nick Boutis \nWe’ll search the north Glen for hardy birds on this one-mile walk. $5 + $10 parking\, members free. Meet at the new Cascades Parking Lot\, just off 1075 State Route 343. \n  \n 
URL:https://glenhelen.org/event/fall-migration-birding-hike-2/
LOCATION:Cascades Parking Lot\, 1075 State Route 343\, Yellow Springs\, 45387\, United States
CATEGORIES:Birding in The Glen,Programs,Series
ATTACH;FMTTYPE=image/jpeg:https://glenhelen.org/wp-content/uploads/2025/09/2026-Calendar-Photo-Contest4-scaled.jpg
END:VEVENT
BEGIN:VEVENT
DTSTART;TZID=America/New_York:20251019T133000
DTEND;TZID=America/New_York:20251019T153000
DTSTAMP:20260424T073619
CREATED:20250818T014858Z
LAST-MODIFIED:20250818T014858Z
UID:10000193-1760880600-1760887800@glenhelen.org
SUMMARY:Glen Helen History Hike
DESCRIPTION:Glen Helen History Hike\nProgram led by Naturalist\, Patrick Dwyer \nExplore Glen Helen’s history with a moderate one-mile hike on the Inman Trail led by naturalist Patrick Dwyer. Learn about the natural features\, including Pompey’s Pillar\, The Cascades\, Hopewell Indian Mound\, and the actual Yellow Spring. \nSunday\, October 19\, 2025\n1:30–3:30pm\nMeet at the Cascades Lot: 1075 State Route 343\, Yellow Springs \nRegistration required.\nProgram: $5 + Parking: $10\, Members Free
URL:https://glenhelen.org/event/glen-helen-history-hike/
LOCATION:Cascades Parking Lot\, 1075 State Route 343\, Yellow Springs\, 45387\, United States
CATEGORIES:Programs
END:VEVENT
BEGIN:VEVENT
DTSTART;TZID=America/New_York:20250928T100000
DTEND;TZID=America/New_York:20250928T113000
DTSTAMP:20260424T073619
CREATED:20250818T013932Z
LAST-MODIFIED:20250818T013932Z
UID:10000190-1759053600-1759059000@glenhelen.org
SUMMARY:Raptor Photo Program: Raptor Center
DESCRIPTION:Raptor Photo Program: Raptor Center \nJoin us for an opportunity to capture stunning pictures of hawks\, owls\, and falcons in natural settings while learning about their natural history\, behaviors and importance for maintaining healthy ecosystems. The raptor photography program offers a unique blend of education\, adventure\, and close-up experience\, making it ideal for photographers of all skill levels. Whether you’re looking to expand your portfolio\, connect with nature\, or simply enjoy a day of outdoor photography\, this program promises an enriching and rewarding experience. Bring your high speed lense for a chance to capture some birds in flight as well. \nSunday\, September 28\, 2025\n10:00–11:30am\nCascades Lot: 1075 State Route 343\, Yellow Springs \nRegistration Required.\nTickets $50/participant ($40 for members). Maximum 12 tickets. \nRain date: Oct 5
URL:https://glenhelen.org/event/raptor-photo-program-raptor-center/
LOCATION:Cascades Parking Lot\, 1075 State Route 343\, Yellow Springs\, 45387\, United States
CATEGORIES:Raptor Center
ORGANIZER;CN="Raptor Center":MAILTO:raptor.center@glenhelen.org
END:VEVENT
END:VCALENDAR