BEGIN:VCALENDAR
VERSION:2.0
PRODID:-//Glen Helen Nature Preserve - ECPv6.15.20//NONSGML v1.0//EN
CALSCALE:GREGORIAN
METHOD:PUBLISH
X-WR-CALNAME:Glen Helen Nature Preserve
X-ORIGINAL-URL:https://glenhelen.org
X-WR-CALDESC:Events for Glen Helen Nature Preserve
REFRESH-INTERVAL;VALUE=DURATION:PT1H
X-Robots-Tag:noindex
X-PUBLISHED-TTL:PT1H
BEGIN:VTIMEZONE
TZID:America/New_York
BEGIN:DAYLIGHT
TZOFFSETFROM:-0500
TZOFFSETTO:-0400
TZNAME:EDT
DTSTART:20250309T070000
END:DAYLIGHT
BEGIN:STANDARD
TZOFFSETFROM:-0400
TZOFFSETTO:-0500
TZNAME:EST
DTSTART:20251102T060000
END:STANDARD
BEGIN:DAYLIGHT
TZOFFSETFROM:-0500
TZOFFSETTO:-0400
TZNAME:EDT
DTSTART:20260308T070000
END:DAYLIGHT
BEGIN:STANDARD
TZOFFSETFROM:-0400
TZOFFSETTO:-0500
TZNAME:EST
DTSTART:20261101T060000
END:STANDARD
BEGIN:DAYLIGHT
TZOFFSETFROM:-0500
TZOFFSETTO:-0400
TZNAME:EDT
DTSTART:20270314T070000
END:DAYLIGHT
BEGIN:STANDARD
TZOFFSETFROM:-0400
TZOFFSETTO:-0500
TZNAME:EST
DTSTART:20271107T060000
END:STANDARD
END:VTIMEZONE
BEGIN:VEVENT
DTSTART;TZID=America/New_York:20260425T133000
DTEND;TZID=America/New_York:20260425T140000
DTSTAMP:20260424T130610
CREATED:20260302T164033Z
LAST-MODIFIED:20260407T174305Z
UID:10000390-1777123800-1777125600@glenhelen.org
SUMMARY:Trailside Turtle Feeding
DESCRIPTION:What does a box turtle eat? Drop in to find out as we feed our resident turtles and other native ambassador animals. No registration required. All ages welcome. Program: Free. Parking: $10\, members free. Trailside Museum: 505 Corry St.
URL:https://glenhelen.org/event/trailside-turtle-feeding-2/2026-04-25/
LOCATION:Trailside Museum\, 505 Corry Street\, Yellow Springs\, OH\, 45387\, United States
ATTACH;FMTTYPE=image/jpeg:https://glenhelen.org/wp-content/uploads/2025/07/080924_Museum-590x339-1-e1763996733313.jpg
END:VEVENT
BEGIN:VEVENT
DTSTART;TZID=America/New_York:20260502T133000
DTEND;TZID=America/New_York:20260502T140000
DTSTAMP:20260424T130610
CREATED:20260302T164033Z
LAST-MODIFIED:20260407T174305Z
UID:10000391-1777728600-1777730400@glenhelen.org
SUMMARY:Trailside Turtle Feeding
DESCRIPTION:What does a box turtle eat? Drop in to find out as we feed our resident turtles and other native ambassador animals. No registration required. All ages welcome. Program: Free. Parking: $10\, members free. Trailside Museum: 505 Corry St.
URL:https://glenhelen.org/event/trailside-turtle-feeding-2/2026-05-02/
LOCATION:Trailside Museum\, 505 Corry Street\, Yellow Springs\, OH\, 45387\, United States
ATTACH;FMTTYPE=image/jpeg:https://glenhelen.org/wp-content/uploads/2025/07/080924_Museum-590x339-1-e1763996733313.jpg
END:VEVENT
BEGIN:VEVENT
DTSTART;TZID=America/New_York:20260509T133000
DTEND;TZID=America/New_York:20260509T140000
DTSTAMP:20260424T130610
CREATED:20260302T164033Z
LAST-MODIFIED:20260407T174305Z
UID:10000392-1778333400-1778335200@glenhelen.org
SUMMARY:Trailside Turtle Feeding
DESCRIPTION:What does a box turtle eat? Drop in to find out as we feed our resident turtles and other native ambassador animals. No registration required. All ages welcome. Program: Free. Parking: $10\, members free. Trailside Museum: 505 Corry St.
URL:https://glenhelen.org/event/trailside-turtle-feeding-2/2026-05-09/
LOCATION:Trailside Museum\, 505 Corry Street\, Yellow Springs\, OH\, 45387\, United States
ATTACH;FMTTYPE=image/jpeg:https://glenhelen.org/wp-content/uploads/2025/07/080924_Museum-590x339-1-e1763996733313.jpg
END:VEVENT
BEGIN:VEVENT
DTSTART;TZID=America/New_York:20260516T133000
DTEND;TZID=America/New_York:20260516T140000
DTSTAMP:20260424T130610
CREATED:20260302T164033Z
LAST-MODIFIED:20260407T174305Z
UID:10000393-1778938200-1778940000@glenhelen.org
SUMMARY:Trailside Turtle Feeding
DESCRIPTION:What does a box turtle eat? Drop in to find out as we feed our resident turtles and other native ambassador animals. No registration required. All ages welcome. Program: Free. Parking: $10\, members free. Trailside Museum: 505 Corry St.
URL:https://glenhelen.org/event/trailside-turtle-feeding-2/2026-05-16/
LOCATION:Trailside Museum\, 505 Corry Street\, Yellow Springs\, OH\, 45387\, United States
ATTACH;FMTTYPE=image/jpeg:https://glenhelen.org/wp-content/uploads/2025/07/080924_Museum-590x339-1-e1763996733313.jpg
END:VEVENT
BEGIN:VEVENT
DTSTART;TZID=America/New_York:20260523T133000
DTEND;TZID=America/New_York:20260523T140000
DTSTAMP:20260424T130610
CREATED:20260302T164033Z
LAST-MODIFIED:20260407T174305Z
UID:10000394-1779543000-1779544800@glenhelen.org
SUMMARY:Trailside Turtle Feeding
DESCRIPTION:What does a box turtle eat? Drop in to find out as we feed our resident turtles and other native ambassador animals. No registration required. All ages welcome. Program: Free. Parking: $10\, members free. Trailside Museum: 505 Corry St.
URL:https://glenhelen.org/event/trailside-turtle-feeding-2/2026-05-23/
LOCATION:Trailside Museum\, 505 Corry Street\, Yellow Springs\, OH\, 45387\, United States
ATTACH;FMTTYPE=image/jpeg:https://glenhelen.org/wp-content/uploads/2025/07/080924_Museum-590x339-1-e1763996733313.jpg
END:VEVENT
BEGIN:VEVENT
DTSTART;TZID=America/New_York:20260530T133000
DTEND;TZID=America/New_York:20260530T140000
DTSTAMP:20260424T130610
CREATED:20260302T164033Z
LAST-MODIFIED:20260407T174305Z
UID:10000395-1780147800-1780149600@glenhelen.org
SUMMARY:Trailside Turtle Feeding
DESCRIPTION:What does a box turtle eat? Drop in to find out as we feed our resident turtles and other native ambassador animals. No registration required. All ages welcome. Program: Free. Parking: $10\, members free. Trailside Museum: 505 Corry St.
URL:https://glenhelen.org/event/trailside-turtle-feeding-2/2026-05-30/
LOCATION:Trailside Museum\, 505 Corry Street\, Yellow Springs\, OH\, 45387\, United States
ATTACH;FMTTYPE=image/jpeg:https://glenhelen.org/wp-content/uploads/2025/07/080924_Museum-590x339-1-e1763996733313.jpg
END:VEVENT
BEGIN:VEVENT
DTSTART;TZID=America/New_York:20260606T133000
DTEND;TZID=America/New_York:20260606T140000
DTSTAMP:20260424T130610
CREATED:20260302T164033Z
LAST-MODIFIED:20260407T174305Z
UID:10000396-1780752600-1780754400@glenhelen.org
SUMMARY:Trailside Turtle Feeding
DESCRIPTION:What does a box turtle eat? Drop in to find out as we feed our resident turtles and other native ambassador animals. No registration required. All ages welcome. Program: Free. Parking: $10\, members free. Trailside Museum: 505 Corry St.
URL:https://glenhelen.org/event/trailside-turtle-feeding-2/2026-06-06/
LOCATION:Trailside Museum\, 505 Corry Street\, Yellow Springs\, OH\, 45387\, United States
ATTACH;FMTTYPE=image/jpeg:https://glenhelen.org/wp-content/uploads/2025/07/080924_Museum-590x339-1-e1763996733313.jpg
END:VEVENT
BEGIN:VEVENT
DTSTART;TZID=America/New_York:20260613T133000
DTEND;TZID=America/New_York:20260613T140000
DTSTAMP:20260424T130610
CREATED:20260302T164033Z
LAST-MODIFIED:20260407T174305Z
UID:10000397-1781357400-1781359200@glenhelen.org
SUMMARY:Trailside Turtle Feeding
DESCRIPTION:What does a box turtle eat? Drop in to find out as we feed our resident turtles and other native ambassador animals. No registration required. All ages welcome. Program: Free. Parking: $10\, members free. Trailside Museum: 505 Corry St.
URL:https://glenhelen.org/event/trailside-turtle-feeding-2/2026-06-13/
LOCATION:Trailside Museum\, 505 Corry Street\, Yellow Springs\, OH\, 45387\, United States
ATTACH;FMTTYPE=image/jpeg:https://glenhelen.org/wp-content/uploads/2025/07/080924_Museum-590x339-1-e1763996733313.jpg
END:VEVENT
BEGIN:VEVENT
DTSTART;TZID=America/New_York:20260620T133000
DTEND;TZID=America/New_York:20260620T140000
DTSTAMP:20260424T130610
CREATED:20260302T164033Z
LAST-MODIFIED:20260407T174305Z
UID:10000398-1781962200-1781964000@glenhelen.org
SUMMARY:Trailside Turtle Feeding
DESCRIPTION:What does a box turtle eat? Drop in to find out as we feed our resident turtles and other native ambassador animals. No registration required. All ages welcome. Program: Free. Parking: $10\, members free. Trailside Museum: 505 Corry St.
URL:https://glenhelen.org/event/trailside-turtle-feeding-2/2026-06-20/
LOCATION:Trailside Museum\, 505 Corry Street\, Yellow Springs\, OH\, 45387\, United States
ATTACH;FMTTYPE=image/jpeg:https://glenhelen.org/wp-content/uploads/2025/07/080924_Museum-590x339-1-e1763996733313.jpg
END:VEVENT
BEGIN:VEVENT
DTSTART;TZID=America/New_York:20260627T133000
DTEND;TZID=America/New_York:20260627T140000
DTSTAMP:20260424T130610
CREATED:20260302T164033Z
LAST-MODIFIED:20260407T174305Z
UID:10000399-1782567000-1782568800@glenhelen.org
SUMMARY:Trailside Turtle Feeding
DESCRIPTION:What does a box turtle eat? Drop in to find out as we feed our resident turtles and other native ambassador animals. No registration required. All ages welcome. Program: Free. Parking: $10\, members free. Trailside Museum: 505 Corry St.
URL:https://glenhelen.org/event/trailside-turtle-feeding-2/2026-06-27/
LOCATION:Trailside Museum\, 505 Corry Street\, Yellow Springs\, OH\, 45387\, United States
ATTACH;FMTTYPE=image/jpeg:https://glenhelen.org/wp-content/uploads/2025/07/080924_Museum-590x339-1-e1763996733313.jpg
END:VEVENT
BEGIN:VEVENT
DTSTART;TZID=America/New_York:20260704T133000
DTEND;TZID=America/New_York:20260704T140000
DTSTAMP:20260424T130610
CREATED:20260302T164033Z
LAST-MODIFIED:20260407T174305Z
UID:10000400-1783171800-1783173600@glenhelen.org
SUMMARY:Trailside Turtle Feeding
DESCRIPTION:What does a box turtle eat? Drop in to find out as we feed our resident turtles and other native ambassador animals. No registration required. All ages welcome. Program: Free. Parking: $10\, members free. Trailside Museum: 505 Corry St.
URL:https://glenhelen.org/event/trailside-turtle-feeding-2/2026-07-04/
LOCATION:Trailside Museum\, 505 Corry Street\, Yellow Springs\, OH\, 45387\, United States
ATTACH;FMTTYPE=image/jpeg:https://glenhelen.org/wp-content/uploads/2025/07/080924_Museum-590x339-1-e1763996733313.jpg
END:VEVENT
BEGIN:VEVENT
DTSTART;TZID=America/New_York:20260711T133000
DTEND;TZID=America/New_York:20260711T140000
DTSTAMP:20260424T130610
CREATED:20260302T164033Z
LAST-MODIFIED:20260407T174305Z
UID:10000401-1783776600-1783778400@glenhelen.org
SUMMARY:Trailside Turtle Feeding
DESCRIPTION:What does a box turtle eat? Drop in to find out as we feed our resident turtles and other native ambassador animals. No registration required. All ages welcome. Program: Free. Parking: $10\, members free. Trailside Museum: 505 Corry St.
URL:https://glenhelen.org/event/trailside-turtle-feeding-2/2026-07-11/
LOCATION:Trailside Museum\, 505 Corry Street\, Yellow Springs\, OH\, 45387\, United States
ATTACH;FMTTYPE=image/jpeg:https://glenhelen.org/wp-content/uploads/2025/07/080924_Museum-590x339-1-e1763996733313.jpg
END:VEVENT
BEGIN:VEVENT
DTSTART;TZID=America/New_York:20260718T133000
DTEND;TZID=America/New_York:20260718T140000
DTSTAMP:20260424T130610
CREATED:20260302T164033Z
LAST-MODIFIED:20260407T174305Z
UID:10000402-1784381400-1784383200@glenhelen.org
SUMMARY:Trailside Turtle Feeding
DESCRIPTION:What does a box turtle eat? Drop in to find out as we feed our resident turtles and other native ambassador animals. No registration required. All ages welcome. Program: Free. Parking: $10\, members free. Trailside Museum: 505 Corry St.
URL:https://glenhelen.org/event/trailside-turtle-feeding-2/2026-07-18/
LOCATION:Trailside Museum\, 505 Corry Street\, Yellow Springs\, OH\, 45387\, United States
ATTACH;FMTTYPE=image/jpeg:https://glenhelen.org/wp-content/uploads/2025/07/080924_Museum-590x339-1-e1763996733313.jpg
END:VEVENT
BEGIN:VEVENT
DTSTART;TZID=America/New_York:20260725T133000
DTEND;TZID=America/New_York:20260725T140000
DTSTAMP:20260424T130610
CREATED:20260302T164033Z
LAST-MODIFIED:20260407T174305Z
UID:10000403-1784986200-1784988000@glenhelen.org
SUMMARY:Trailside Turtle Feeding
DESCRIPTION:What does a box turtle eat? Drop in to find out as we feed our resident turtles and other native ambassador animals. No registration required. All ages welcome. Program: Free. Parking: $10\, members free. Trailside Museum: 505 Corry St.
URL:https://glenhelen.org/event/trailside-turtle-feeding-2/2026-07-25/
LOCATION:Trailside Museum\, 505 Corry Street\, Yellow Springs\, OH\, 45387\, United States
ATTACH;FMTTYPE=image/jpeg:https://glenhelen.org/wp-content/uploads/2025/07/080924_Museum-590x339-1-e1763996733313.jpg
END:VEVENT
BEGIN:VEVENT
DTSTART;TZID=America/New_York:20260801T133000
DTEND;TZID=America/New_York:20260801T140000
DTSTAMP:20260424T130610
CREATED:20260302T164033Z
LAST-MODIFIED:20260407T174305Z
UID:10000404-1785591000-1785592800@glenhelen.org
SUMMARY:Trailside Turtle Feeding
DESCRIPTION:What does a box turtle eat? Drop in to find out as we feed our resident turtles and other native ambassador animals. No registration required. All ages welcome. Program: Free. Parking: $10\, members free. Trailside Museum: 505 Corry St.
URL:https://glenhelen.org/event/trailside-turtle-feeding-2/2026-08-01/
LOCATION:Trailside Museum\, 505 Corry Street\, Yellow Springs\, OH\, 45387\, United States
ATTACH;FMTTYPE=image/jpeg:https://glenhelen.org/wp-content/uploads/2025/07/080924_Museum-590x339-1-e1763996733313.jpg
END:VEVENT
BEGIN:VEVENT
DTSTART;TZID=America/New_York:20260808T133000
DTEND;TZID=America/New_York:20260808T140000
DTSTAMP:20260424T130610
CREATED:20260302T164033Z
LAST-MODIFIED:20260407T174305Z
UID:10000405-1786195800-1786197600@glenhelen.org
SUMMARY:Trailside Turtle Feeding
DESCRIPTION:What does a box turtle eat? Drop in to find out as we feed our resident turtles and other native ambassador animals. No registration required. All ages welcome. Program: Free. Parking: $10\, members free. Trailside Museum: 505 Corry St.
URL:https://glenhelen.org/event/trailside-turtle-feeding-2/2026-08-08/
LOCATION:Trailside Museum\, 505 Corry Street\, Yellow Springs\, OH\, 45387\, United States
ATTACH;FMTTYPE=image/jpeg:https://glenhelen.org/wp-content/uploads/2025/07/080924_Museum-590x339-1-e1763996733313.jpg
END:VEVENT
BEGIN:VEVENT
DTSTART;TZID=America/New_York:20260815T133000
DTEND;TZID=America/New_York:20260815T140000
DTSTAMP:20260424T130610
CREATED:20260302T164033Z
LAST-MODIFIED:20260407T174305Z
UID:10000406-1786800600-1786802400@glenhelen.org
SUMMARY:Trailside Turtle Feeding
DESCRIPTION:What does a box turtle eat? Drop in to find out as we feed our resident turtles and other native ambassador animals. No registration required. All ages welcome. Program: Free. Parking: $10\, members free. Trailside Museum: 505 Corry St.
URL:https://glenhelen.org/event/trailside-turtle-feeding-2/2026-08-15/
LOCATION:Trailside Museum\, 505 Corry Street\, Yellow Springs\, OH\, 45387\, United States
ATTACH;FMTTYPE=image/jpeg:https://glenhelen.org/wp-content/uploads/2025/07/080924_Museum-590x339-1-e1763996733313.jpg
END:VEVENT
BEGIN:VEVENT
DTSTART;TZID=America/New_York:20260822T133000
DTEND;TZID=America/New_York:20260822T140000
DTSTAMP:20260424T130610
CREATED:20260302T164033Z
LAST-MODIFIED:20260407T174305Z
UID:10000407-1787405400-1787407200@glenhelen.org
SUMMARY:Trailside Turtle Feeding
DESCRIPTION:What does a box turtle eat? Drop in to find out as we feed our resident turtles and other native ambassador animals. No registration required. All ages welcome. Program: Free. Parking: $10\, members free. Trailside Museum: 505 Corry St.
URL:https://glenhelen.org/event/trailside-turtle-feeding-2/2026-08-22/
LOCATION:Trailside Museum\, 505 Corry Street\, Yellow Springs\, OH\, 45387\, United States
ATTACH;FMTTYPE=image/jpeg:https://glenhelen.org/wp-content/uploads/2025/07/080924_Museum-590x339-1-e1763996733313.jpg
END:VEVENT
BEGIN:VEVENT
DTSTART;TZID=America/New_York:20260829T133000
DTEND;TZID=America/New_York:20260829T140000
DTSTAMP:20260424T130610
CREATED:20260302T164033Z
LAST-MODIFIED:20260407T174305Z
UID:10000408-1788010200-1788012000@glenhelen.org
SUMMARY:Trailside Turtle Feeding
DESCRIPTION:What does a box turtle eat? Drop in to find out as we feed our resident turtles and other native ambassador animals. No registration required. All ages welcome. Program: Free. Parking: $10\, members free. Trailside Museum: 505 Corry St.
URL:https://glenhelen.org/event/trailside-turtle-feeding-2/2026-08-29/
LOCATION:Trailside Museum\, 505 Corry Street\, Yellow Springs\, OH\, 45387\, United States
ATTACH;FMTTYPE=image/jpeg:https://glenhelen.org/wp-content/uploads/2025/07/080924_Museum-590x339-1-e1763996733313.jpg
END:VEVENT
BEGIN:VEVENT
DTSTART;TZID=America/New_York:20260905T133000
DTEND;TZID=America/New_York:20260905T140000
DTSTAMP:20260424T130610
CREATED:20260302T164033Z
LAST-MODIFIED:20260407T174305Z
UID:10000409-1788615000-1788616800@glenhelen.org
SUMMARY:Trailside Turtle Feeding
DESCRIPTION:What does a box turtle eat? Drop in to find out as we feed our resident turtles and other native ambassador animals. No registration required. All ages welcome. Program: Free. Parking: $10\, members free. Trailside Museum: 505 Corry St.
URL:https://glenhelen.org/event/trailside-turtle-feeding-2/2026-09-05/
LOCATION:Trailside Museum\, 505 Corry Street\, Yellow Springs\, OH\, 45387\, United States
ATTACH;FMTTYPE=image/jpeg:https://glenhelen.org/wp-content/uploads/2025/07/080924_Museum-590x339-1-e1763996733313.jpg
END:VEVENT
BEGIN:VEVENT
DTSTART;TZID=America/New_York:20260912T133000
DTEND;TZID=America/New_York:20260912T140000
DTSTAMP:20260424T130610
CREATED:20260302T164033Z
LAST-MODIFIED:20260407T174305Z
UID:10000410-1789219800-1789221600@glenhelen.org
SUMMARY:Trailside Turtle Feeding
DESCRIPTION:What does a box turtle eat? Drop in to find out as we feed our resident turtles and other native ambassador animals. No registration required. All ages welcome. Program: Free. Parking: $10\, members free. Trailside Museum: 505 Corry St.
URL:https://glenhelen.org/event/trailside-turtle-feeding-2/2026-09-12/
LOCATION:Trailside Museum\, 505 Corry Street\, Yellow Springs\, OH\, 45387\, United States
ATTACH;FMTTYPE=image/jpeg:https://glenhelen.org/wp-content/uploads/2025/07/080924_Museum-590x339-1-e1763996733313.jpg
END:VEVENT
BEGIN:VEVENT
DTSTART;TZID=America/New_York:20260919T133000
DTEND;TZID=America/New_York:20260919T140000
DTSTAMP:20260424T130610
CREATED:20260302T164033Z
LAST-MODIFIED:20260407T174305Z
UID:10000411-1789824600-1789826400@glenhelen.org
SUMMARY:Trailside Turtle Feeding
DESCRIPTION:What does a box turtle eat? Drop in to find out as we feed our resident turtles and other native ambassador animals. No registration required. All ages welcome. Program: Free. Parking: $10\, members free. Trailside Museum: 505 Corry St.
URL:https://glenhelen.org/event/trailside-turtle-feeding-2/2026-09-19/
LOCATION:Trailside Museum\, 505 Corry Street\, Yellow Springs\, OH\, 45387\, United States
ATTACH;FMTTYPE=image/jpeg:https://glenhelen.org/wp-content/uploads/2025/07/080924_Museum-590x339-1-e1763996733313.jpg
END:VEVENT
BEGIN:VEVENT
DTSTART;TZID=America/New_York:20260926T133000
DTEND;TZID=America/New_York:20260926T140000
DTSTAMP:20260424T130610
CREATED:20260302T164033Z
LAST-MODIFIED:20260407T174305Z
UID:10000412-1790429400-1790431200@glenhelen.org
SUMMARY:Trailside Turtle Feeding
DESCRIPTION:What does a box turtle eat? Drop in to find out as we feed our resident turtles and other native ambassador animals. No registration required. All ages welcome. Program: Free. Parking: $10\, members free. Trailside Museum: 505 Corry St.
URL:https://glenhelen.org/event/trailside-turtle-feeding-2/2026-09-26/
LOCATION:Trailside Museum\, 505 Corry Street\, Yellow Springs\, OH\, 45387\, United States
ATTACH;FMTTYPE=image/jpeg:https://glenhelen.org/wp-content/uploads/2025/07/080924_Museum-590x339-1-e1763996733313.jpg
END:VEVENT
BEGIN:VEVENT
DTSTART;TZID=America/New_York:20261003T133000
DTEND;TZID=America/New_York:20261003T140000
DTSTAMP:20260424T130610
CREATED:20260302T164033Z
LAST-MODIFIED:20260407T174305Z
UID:10000413-1791034200-1791036000@glenhelen.org
SUMMARY:Trailside Turtle Feeding
DESCRIPTION:What does a box turtle eat? Drop in to find out as we feed our resident turtles and other native ambassador animals. No registration required. All ages welcome. Program: Free. Parking: $10\, members free. Trailside Museum: 505 Corry St.
URL:https://glenhelen.org/event/trailside-turtle-feeding-2/2026-10-03/
LOCATION:Trailside Museum\, 505 Corry Street\, Yellow Springs\, OH\, 45387\, United States
ATTACH;FMTTYPE=image/jpeg:https://glenhelen.org/wp-content/uploads/2025/07/080924_Museum-590x339-1-e1763996733313.jpg
END:VEVENT
BEGIN:VEVENT
DTSTART;TZID=America/New_York:20261010T133000
DTEND;TZID=America/New_York:20261010T140000
DTSTAMP:20260424T130610
CREATED:20260302T164033Z
LAST-MODIFIED:20260407T174305Z
UID:10000414-1791639000-1791640800@glenhelen.org
SUMMARY:Trailside Turtle Feeding
DESCRIPTION:What does a box turtle eat? Drop in to find out as we feed our resident turtles and other native ambassador animals. No registration required. All ages welcome. Program: Free. Parking: $10\, members free. Trailside Museum: 505 Corry St.
URL:https://glenhelen.org/event/trailside-turtle-feeding-2/2026-10-10/
LOCATION:Trailside Museum\, 505 Corry Street\, Yellow Springs\, OH\, 45387\, United States
ATTACH;FMTTYPE=image/jpeg:https://glenhelen.org/wp-content/uploads/2025/07/080924_Museum-590x339-1-e1763996733313.jpg
END:VEVENT
BEGIN:VEVENT
DTSTART;TZID=America/New_York:20261017T133000
DTEND;TZID=America/New_York:20261017T140000
DTSTAMP:20260424T130610
CREATED:20260302T164033Z
LAST-MODIFIED:20260407T174305Z
UID:10000415-1792243800-1792245600@glenhelen.org
SUMMARY:Trailside Turtle Feeding
DESCRIPTION:What does a box turtle eat? Drop in to find out as we feed our resident turtles and other native ambassador animals. No registration required. All ages welcome. Program: Free. Parking: $10\, members free. Trailside Museum: 505 Corry St.
URL:https://glenhelen.org/event/trailside-turtle-feeding-2/2026-10-17/
LOCATION:Trailside Museum\, 505 Corry Street\, Yellow Springs\, OH\, 45387\, United States
ATTACH;FMTTYPE=image/jpeg:https://glenhelen.org/wp-content/uploads/2025/07/080924_Museum-590x339-1-e1763996733313.jpg
END:VEVENT
BEGIN:VEVENT
DTSTART;TZID=America/New_York:20261024T133000
DTEND;TZID=America/New_York:20261024T140000
DTSTAMP:20260424T130610
CREATED:20260302T164033Z
LAST-MODIFIED:20260407T174305Z
UID:10000416-1792848600-1792850400@glenhelen.org
SUMMARY:Trailside Turtle Feeding
DESCRIPTION:What does a box turtle eat? Drop in to find out as we feed our resident turtles and other native ambassador animals. No registration required. All ages welcome. Program: Free. Parking: $10\, members free. Trailside Museum: 505 Corry St.
URL:https://glenhelen.org/event/trailside-turtle-feeding-2/2026-10-24/
LOCATION:Trailside Museum\, 505 Corry Street\, Yellow Springs\, OH\, 45387\, United States
ATTACH;FMTTYPE=image/jpeg:https://glenhelen.org/wp-content/uploads/2025/07/080924_Museum-590x339-1-e1763996733313.jpg
END:VEVENT
BEGIN:VEVENT
DTSTART;TZID=America/New_York:20261031T133000
DTEND;TZID=America/New_York:20261031T140000
DTSTAMP:20260424T130610
CREATED:20260302T164033Z
LAST-MODIFIED:20260407T174305Z
UID:10000417-1793453400-1793455200@glenhelen.org
SUMMARY:Trailside Turtle Feeding
DESCRIPTION:What does a box turtle eat? Drop in to find out as we feed our resident turtles and other native ambassador animals. No registration required. All ages welcome. Program: Free. Parking: $10\, members free. Trailside Museum: 505 Corry St.
URL:https://glenhelen.org/event/trailside-turtle-feeding-2/2026-10-31/
LOCATION:Trailside Museum\, 505 Corry Street\, Yellow Springs\, OH\, 45387\, United States
ATTACH;FMTTYPE=image/jpeg:https://glenhelen.org/wp-content/uploads/2025/07/080924_Museum-590x339-1-e1763996733313.jpg
END:VEVENT
BEGIN:VEVENT
DTSTART;TZID=America/New_York:20261107T133000
DTEND;TZID=America/New_York:20261107T140000
DTSTAMP:20260424T130610
CREATED:20260302T164033Z
LAST-MODIFIED:20260407T174305Z
UID:10000418-1794058200-1794060000@glenhelen.org
SUMMARY:Trailside Turtle Feeding
DESCRIPTION:What does a box turtle eat? Drop in to find out as we feed our resident turtles and other native ambassador animals. No registration required. All ages welcome. Program: Free. Parking: $10\, members free. Trailside Museum: 505 Corry St.
URL:https://glenhelen.org/event/trailside-turtle-feeding-2/2026-11-07/
LOCATION:Trailside Museum\, 505 Corry Street\, Yellow Springs\, OH\, 45387\, United States
ATTACH;FMTTYPE=image/jpeg:https://glenhelen.org/wp-content/uploads/2025/07/080924_Museum-590x339-1-e1763996733313.jpg
END:VEVENT
BEGIN:VEVENT
DTSTART;TZID=America/New_York:20261114T133000
DTEND;TZID=America/New_York:20261114T140000
DTSTAMP:20260424T130610
CREATED:20260302T164033Z
LAST-MODIFIED:20260407T174305Z
UID:10000419-1794663000-1794664800@glenhelen.org
SUMMARY:Trailside Turtle Feeding
DESCRIPTION:What does a box turtle eat? Drop in to find out as we feed our resident turtles and other native ambassador animals. No registration required. All ages welcome. Program: Free. Parking: $10\, members free. Trailside Museum: 505 Corry St.
URL:https://glenhelen.org/event/trailside-turtle-feeding-2/2026-11-14/
LOCATION:Trailside Museum\, 505 Corry Street\, Yellow Springs\, OH\, 45387\, United States
ATTACH;FMTTYPE=image/jpeg:https://glenhelen.org/wp-content/uploads/2025/07/080924_Museum-590x339-1-e1763996733313.jpg
END:VEVENT
END:VCALENDAR