BEGIN:VCALENDAR
VERSION:2.0
PRODID:-//Glen Helen Nature Preserve - ECPv6.15.20//NONSGML v1.0//EN
CALSCALE:GREGORIAN
METHOD:PUBLISH
X-ORIGINAL-URL:https://glenhelen.org
X-WR-CALDESC:Events for Glen Helen Nature Preserve
REFRESH-INTERVAL;VALUE=DURATION:PT1H
X-Robots-Tag:noindex
X-PUBLISHED-TTL:PT1H
BEGIN:VTIMEZONE
TZID:America/New_York
BEGIN:DAYLIGHT
TZOFFSETFROM:-0500
TZOFFSETTO:-0400
TZNAME:EDT
DTSTART:20240310T070000
END:DAYLIGHT
BEGIN:STANDARD
TZOFFSETFROM:-0400
TZOFFSETTO:-0500
TZNAME:EST
DTSTART:20241103T060000
END:STANDARD
BEGIN:DAYLIGHT
TZOFFSETFROM:-0500
TZOFFSETTO:-0400
TZNAME:EDT
DTSTART:20250309T070000
END:DAYLIGHT
BEGIN:STANDARD
TZOFFSETFROM:-0400
TZOFFSETTO:-0500
TZNAME:EST
DTSTART:20251102T060000
END:STANDARD
BEGIN:DAYLIGHT
TZOFFSETFROM:-0500
TZOFFSETTO:-0400
TZNAME:EDT
DTSTART:20260308T070000
END:DAYLIGHT
BEGIN:STANDARD
TZOFFSETFROM:-0400
TZOFFSETTO:-0500
TZNAME:EST
DTSTART:20261101T060000
END:STANDARD
BEGIN:DAYLIGHT
TZOFFSETFROM:-0500
TZOFFSETTO:-0400
TZNAME:EDT
DTSTART:20270314T070000
END:DAYLIGHT
BEGIN:STANDARD
TZOFFSETFROM:-0400
TZOFFSETTO:-0500
TZNAME:EST
DTSTART:20271107T060000
END:STANDARD
END:VTIMEZONE
BEGIN:VEVENT
DTSTART;TZID=America/New_York:20260412T100000
DTEND;TZID=America/New_York:20260412T113000
DTSTAMP:20260425T115447
CREATED:20260210T213436Z
LAST-MODIFIED:20260407T174408Z
UID:10000239-1775988000-1775993400@glenhelen.org
SUMMARY:Raptor Photography: April 12\, 10-11:30am
DESCRIPTION:Get ready to capture incredible photos of our resident raptors around the Raptor Center and surrounding woods. Birds will be photographed in areas representative of their natural habitats while we talk about their natural history and individual stories. Bring your high speed lenses for a chance to capture some birds on the wing if the weather\, and birds\, cooperate! This program is appropriate for the novice to professional photographer and anyone in between. The program will proceed in lite wind or rain\, heavy rain will necessitate a reschedule. Tickets: $45\, members: $40. Parking is free with paid ticket. Maximum of 12 tickets. \nProgram April 12th. Rain date April 19th.
URL:https://glenhelen.org/event/raptor-photography-april-12-10-1130am/
LOCATION:Raptor Center\, 1075 State Route 343\, Yellow Springs\, OH\, 45387\, United States
CATEGORIES:Raptor Center
ATTACH;FMTTYPE=image/jpeg:https://glenhelen.org/wp-content/uploads/2026/02/DSC_6325-scaled.jpg
ORGANIZER;CN="Raptor Center":MAILTO:raptor.center@glenhelen.org
END:VEVENT
BEGIN:VEVENT
DTSTART;TZID=America/New_York:20260322T110000
DTEND;TZID=America/New_York:20260322T140000
DTSTAMP:20260425T115447
CREATED:20260210T205543Z
LAST-MODIFIED:20260210T205543Z
UID:10000238-1774177200-1774188000@glenhelen.org
SUMMARY:Baby Bird Journey
DESCRIPTION:The Baby Bird Journey – Sunday\, March 22: 11am-2pm \nCome to the Raptor Center to celebrate the joy of Springtime and learn how nestling birds go from fluffy babies to fledglings ready to fly. Start your nestling journey at the Cascade’s parking lot at 1075 State Route 343 and along a short half-mile walk to the Raptor Center you will meet different birds at interactive stations that will take you from helpless nestling to fearsome fledgling. Don’t delay\, the baby bird journey will be open from 11am to 2pm. Parking $10\, Glen Helen Association members park free.
URL:https://glenhelen.org/event/baby-bird-journey/
LOCATION:Cascades Parking Lot\, 1075 State Route 343\, Yellow Springs\, 45387\, United States
CATEGORIES:Raptor Center
ATTACH;FMTTYPE=image/jpeg:https://glenhelen.org/wp-content/uploads/2026/02/PXL_20250423_174458280-scaled.jpg
ORGANIZER;CN="Raptor Center":MAILTO:raptor.center@glenhelen.org
END:VEVENT
BEGIN:VEVENT
DTSTART;TZID=America/New_York:20260214T140000
DTEND;TZID=America/New_York:20260214T160000
DTSTAMP:20260425T115447
CREATED:20251124T171453Z
LAST-MODIFIED:20251202T191627Z
UID:10000232-1771077600-1771084800@glenhelen.org
SUMMARY:Hearts for my Valentine
DESCRIPTION:Are you and your nestmate looking for somewhere to spend the day together? Searching for a special feathered cupid to celebrate the season of love?  The bachelor and bachelorettes of the Raptor Center are here to help! Visit the Raptor Center and celebrate Valentine’s Day raptor style! Make bird shaped valentine cards and buy special heart shaped treats to give to your favorite bird bestie at the Raptor Center. You can even snag a picture at our photo booth! Drop-ins welcome. $10 parking\, members Free. Glen Helen Raptor Center: 1075 State Route 343.
URL:https://glenhelen.org/event/hearts-for-my-valentine/
LOCATION:Raptor Center\, 1075 State Route 343\, Yellow Springs\, OH\, 45387\, United States
ATTACH;FMTTYPE=image/jpeg:https://glenhelen.org/wp-content/uploads/2025/11/572667840630280459.jpg
ORGANIZER;CN="Raptor Center":MAILTO:raptor.center@glenhelen.org
END:VEVENT
BEGIN:VEVENT
DTSTART;TZID=America/New_York:20260118T130000
DTEND;TZID=America/New_York:20260118T150000
DTSTAMP:20260425T115447
CREATED:20251124T151721Z
LAST-MODIFIED:20260106T184547Z
UID:10000225-1768741200-1768748400@glenhelen.org
SUMMARY:Bird House Build
DESCRIPTION:Join the Raptor Center team for a hands-on\, step by step instructional program to build a small bird nesting box (bird house) appropriate for a wide range of native Ohio songbirds. We will provide the tools\, instructions\, and the materials to ensure you leave the program with a ready to install domicile for the most demanding of avian tenants. Registration required at glenhelen.org. To ensure kits are ready\, please register by January 15th. One kit per $30 registration + free parking. (Two builders can share one kit.) Outdoor Education Center Lodge\, 1075 State Route 343.
URL:https://glenhelen.org/event/bird-house-build/
LOCATION:Outdoor Education Center\, 1075 State Route 343\, Yellow Springs\, Ohio\, 45387
ATTACH;FMTTYPE=image/jpeg:https://glenhelen.org/wp-content/uploads/2025/11/Bluebird-nesting-box.jpg
ORGANIZER;CN="Raptor Center":MAILTO:raptor.center@glenhelen.org
END:VEVENT
BEGIN:VEVENT
DTSTART;TZID=America/New_York:20251115T100000
DTEND;TZID=America/New_York:20251115T113000
DTSTAMP:20260425T115447
CREATED:20250818T020232Z
LAST-MODIFIED:20250818T020232Z
UID:10000196-1763200800-1763206200@glenhelen.org
SUMMARY:Raptor Photo Program: Raptor Center
DESCRIPTION:Raptor Photo Program: Raptor Center \nJoin us for an opportunity to capture stunning pictures of hawks\, owls\, and falcons in natural settings while learning about their natural history\, behaviors and importance for maintaining healthy ecosystems. The raptor photography program offers a unique blend of education\, adventure\, and close-up experience\, making it ideal for photographers of all skill levels. Whether you’re looking to expand your portfolio\, connect with nature\, or simply enjoy a day of outdoor photography\, this program promises an enriching and rewarding experience. Bring your high speed lense for a chance to capture some birds in flight as well. \nSaturday\, November 15\, 2025\n10–11:30am\nCascades Lot: 1075 State Route 343\, Yellow Springs \nTickets $50/participant ($40 for members). Maximum 12 tickets. \nRain date: Nov 22
URL:https://glenhelen.org/event/raptor-photo-program-raptor-center-2/
LOCATION:Raptor Center\, 1075 State Route 343\, Yellow Springs\, OH\, 45387\, United States
CATEGORIES:Raptor Center
ORGANIZER;CN="Raptor Center":MAILTO:raptor.center@glenhelen.org
END:VEVENT
BEGIN:VEVENT
DTSTART;TZID=America/New_York:20251025T110000
DTEND;TZID=America/New_York:20251025T140000
DTSTAMP:20260425T115447
CREATED:20250818T015315Z
LAST-MODIFIED:20250818T015315Z
UID:10000194-1761390000-1761400800@glenhelen.org
SUMMARY:Owl-ween: Raptor Center
DESCRIPTION:Owl-ween: Raptor Center \nCelebrate owl-ween with the owls of the Raptor Center. Do owl related crafts\, and meet some feathered friends on a beautiful Fall day. No registration required. Suggested donation $5/kid or bring something from our donation list as a treat for our birds. Whooo will have the best costume? Come find out! \nSaturday\, October 25\, 2025\n11:00am–2:00pm\nRaptor Center: 1075 State Route 343\, Yellow Springs\, OH 45387
URL:https://glenhelen.org/event/owl-ween-raptor-center/
LOCATION:Raptor Center\, 1075 State Route 343\, Yellow Springs\, OH\, 45387\, United States
CATEGORIES:Raptor Center
ORGANIZER;CN="Raptor Center":MAILTO:raptor.center@glenhelen.org
END:VEVENT
BEGIN:VEVENT
DTSTART;TZID=America/New_York:20250928T100000
DTEND;TZID=America/New_York:20250928T113000
DTSTAMP:20260425T115447
CREATED:20250818T013932Z
LAST-MODIFIED:20250818T013932Z
UID:10000190-1759053600-1759059000@glenhelen.org
SUMMARY:Raptor Photo Program: Raptor Center
DESCRIPTION:Raptor Photo Program: Raptor Center \nJoin us for an opportunity to capture stunning pictures of hawks\, owls\, and falcons in natural settings while learning about their natural history\, behaviors and importance for maintaining healthy ecosystems. The raptor photography program offers a unique blend of education\, adventure\, and close-up experience\, making it ideal for photographers of all skill levels. Whether you’re looking to expand your portfolio\, connect with nature\, or simply enjoy a day of outdoor photography\, this program promises an enriching and rewarding experience. Bring your high speed lense for a chance to capture some birds in flight as well. \nSunday\, September 28\, 2025\n10:00–11:30am\nCascades Lot: 1075 State Route 343\, Yellow Springs \nRegistration Required.\nTickets $50/participant ($40 for members). Maximum 12 tickets. \nRain date: Oct 5
URL:https://glenhelen.org/event/raptor-photo-program-raptor-center/
LOCATION:Cascades Parking Lot\, 1075 State Route 343\, Yellow Springs\, 45387\, United States
CATEGORIES:Raptor Center
ORGANIZER;CN="Raptor Center":MAILTO:raptor.center@glenhelen.org
END:VEVENT
END:VCALENDAR