BEGIN:VCALENDAR
VERSION:2.0
PRODID:-//Glen Helen Nature Preserve - ECPv6.15.20//NONSGML v1.0//EN
CALSCALE:GREGORIAN
METHOD:PUBLISH
X-WR-CALNAME:Glen Helen Nature Preserve
X-ORIGINAL-URL:https://glenhelen.org
X-WR-CALDESC:Events for Glen Helen Nature Preserve
REFRESH-INTERVAL;VALUE=DURATION:PT1H
X-Robots-Tag:noindex
X-PUBLISHED-TTL:PT1H
BEGIN:VTIMEZONE
TZID:America/New_York
BEGIN:DAYLIGHT
TZOFFSETFROM:-0500
TZOFFSETTO:-0400
TZNAME:EDT
DTSTART:20240310T070000
END:DAYLIGHT
BEGIN:STANDARD
TZOFFSETFROM:-0400
TZOFFSETTO:-0500
TZNAME:EST
DTSTART:20241103T060000
END:STANDARD
BEGIN:DAYLIGHT
TZOFFSETFROM:-0500
TZOFFSETTO:-0400
TZNAME:EDT
DTSTART:20250309T070000
END:DAYLIGHT
BEGIN:STANDARD
TZOFFSETFROM:-0400
TZOFFSETTO:-0500
TZNAME:EST
DTSTART:20251102T060000
END:STANDARD
BEGIN:DAYLIGHT
TZOFFSETFROM:-0500
TZOFFSETTO:-0400
TZNAME:EDT
DTSTART:20260308T070000
END:DAYLIGHT
BEGIN:STANDARD
TZOFFSETFROM:-0400
TZOFFSETTO:-0500
TZNAME:EST
DTSTART:20261101T060000
END:STANDARD
END:VTIMEZONE
BEGIN:VEVENT
DTSTART;TZID=America/New_York:20251108T133000
DTEND;TZID=America/New_York:20251108T153000
DTSTAMP:20260425T134111
CREATED:20250818T021926Z
LAST-MODIFIED:20250818T021942Z
UID:10000199-1762608600-1762615800@glenhelen.org
SUMMARY:The Path Less Traveled: Talus Trail
DESCRIPTION:The Path Less Traveled: Talus Trail\nProgram led by Michelle Stroh & Cheryl Meyer\, OCVNs \nJoin volunteer Michelle Stroh and Ohio Certified Volunteer Naturalist\, Cheryl Meyer\, for this moderate 2 mile hike with mossy rock outcroppings and Yellow Springs Creek views. \nSaturday\, November  8\, 2025\n1:30–3:30pm\nMeet at the Steps Parking Lot: 405 Corry St.\, Yellow Springs \nRegistration required.\nProgram: $5 + Parking: $10\, Members Free
URL:https://glenhelen.org/event/the-path-less-traveled-hike-series-4/
LOCATION:Steps Parking Lot\, 405 Cory Street\, Yellow Springs\, OH\, 45387\, United States
CATEGORIES:Programs,Series,The Path Less Traveled Hike Series
END:VEVENT
END:VCALENDAR